BEGIN:VCALENDAR
VERSION:2.0
PRODID:-//East Side Freedom Library - ECPv6.15.20//NONSGML v1.0//EN
CALSCALE:GREGORIAN
METHOD:PUBLISH
X-WR-CALNAME:East Side Freedom Library
X-ORIGINAL-URL:https://eastsidefreedomlibrary.org
X-WR-CALDESC:Events for East Side Freedom Library
REFRESH-INTERVAL;VALUE=DURATION:PT1H
X-Robots-Tag:noindex
X-PUBLISHED-TTL:PT1H
BEGIN:VTIMEZONE
TZID:America/Chicago
BEGIN:DAYLIGHT
TZOFFSETFROM:-0600
TZOFFSETTO:-0500
TZNAME:CDT
DTSTART:20250309T080000
END:DAYLIGHT
BEGIN:STANDARD
TZOFFSETFROM:-0500
TZOFFSETTO:-0600
TZNAME:CST
DTSTART:20251102T070000
END:STANDARD
BEGIN:DAYLIGHT
TZOFFSETFROM:-0600
TZOFFSETTO:-0500
TZNAME:CDT
DTSTART:20260308T080000
END:DAYLIGHT
BEGIN:STANDARD
TZOFFSETFROM:-0500
TZOFFSETTO:-0600
TZNAME:CST
DTSTART:20261101T070000
END:STANDARD
BEGIN:DAYLIGHT
TZOFFSETFROM:-0600
TZOFFSETTO:-0500
TZNAME:CDT
DTSTART:20270314T080000
END:DAYLIGHT
BEGIN:STANDARD
TZOFFSETFROM:-0500
TZOFFSETTO:-0600
TZNAME:CST
DTSTART:20271107T070000
END:STANDARD
END:VTIMEZONE
BEGIN:VEVENT
DTSTART;TZID=America/Chicago:20260314T100000
DTEND;TZID=America/Chicago:20260314T120000
DTSTAMP:20260425T185002
CREATED:20260122T213434Z
LAST-MODIFIED:20260122T213434Z
UID:10000192-1773482400-1773489600@eastsidefreedomlibrary.org
SUMMARY:HISTORY DAY MENTORING! - Every Saturday morning from 10am-12pm
DESCRIPTION:National History Day Mentoring Returns to ESFL! \nWe’re excited to launch this year’s ESFL National History Day Mentoring Project! \n\nOur first session was Saturday\, December 6\, and will continue every Saturday morning from 10AM–12PM throughout the season through April 2026.\n\nThis year’s National History Day theme is:  REVOLUTION\, REACTION\, AND REFORM IN HISTORY \nAs the nation approaches the 250th anniversary of the Declaration of Independence\, students are invited to explore how revolutions spark reactions\, how reactions inspire reforms\, and how each moment sets off the next\, just like a line of falling dominoes. \nAre you or your students passionate about racial justice\, labor activism\, women’s rights\, immigrant history\, GLBTQ+ movements\, environmental activism\, or other powerful stories of change? \nDo they want to create performances\, documentaries\, exhibits\, websites\, or research papers? \nSend them to the East Side Freedom Library! \nHere they’ll find: \n\n\nRich research resources (books\, art\, music\, archival material)\nConnections for oral histories\nExperienced mentors who have supported local students for over 10 years\nAnd our results? Last year\, three ESFL-mentored students won first or second place at Nationals!\nSTARTING THIS SATURDAY\, DECEMBER 6 – THEN EVERY SATURDAY MORNING\, 10AM–NOON\nEast Side Freedom Library\n\nStudents are encouraged to make an appointment by emailing Peter Rachleff (American History professor at Macalester College for 30 years and coordinator of the ESFL mentor team): peter@eastsidefreedomlibrary.org \nAfter their first session\, students are welcome to return anytime to use ESFL resources. Menors will be available for in-person or remote one-on-one support. \n 
URL:https://eastsidefreedomlibrary.org/event/history-day-mentoring-every-saturday-morning-from-10am-12pm/2026-03-14/
LOCATION:East Side Freedom Library\, 1105 Greenbrier St\, Saint Paul\, MN\, 55106
ATTACH;FMTTYPE=image/jpeg:https://eastsidefreedomlibrary.org/wp-content/uploads/2026/01/IMG_3028.jpeg
ORGANIZER;CN="East Side Freedom Library":MAILTO:info@eastsidefreedomlibrary.org
END:VEVENT
END:VCALENDAR