BEGIN:VCALENDAR
VERSION:2.0
PRODID:-//East Side Freedom Library - ECPv6.15.20//NONSGML v1.0//EN
CALSCALE:GREGORIAN
METHOD:PUBLISH
X-WR-CALNAME:East Side Freedom Library
X-ORIGINAL-URL:https://eastsidefreedomlibrary.org
X-WR-CALDESC:Events for East Side Freedom Library
REFRESH-INTERVAL;VALUE=DURATION:PT1H
X-Robots-Tag:noindex
X-PUBLISHED-TTL:PT1H
BEGIN:VTIMEZONE
TZID:America/Chicago
BEGIN:DAYLIGHT
TZOFFSETFROM:-0600
TZOFFSETTO:-0500
TZNAME:CDT
DTSTART:20250309T080000
END:DAYLIGHT
BEGIN:STANDARD
TZOFFSETFROM:-0500
TZOFFSETTO:-0600
TZNAME:CST
DTSTART:20251102T070000
END:STANDARD
BEGIN:DAYLIGHT
TZOFFSETFROM:-0600
TZOFFSETTO:-0500
TZNAME:CDT
DTSTART:20260308T080000
END:DAYLIGHT
BEGIN:STANDARD
TZOFFSETFROM:-0500
TZOFFSETTO:-0600
TZNAME:CST
DTSTART:20261101T070000
END:STANDARD
BEGIN:DAYLIGHT
TZOFFSETFROM:-0600
TZOFFSETTO:-0500
TZNAME:CDT
DTSTART:20270314T080000
END:DAYLIGHT
BEGIN:STANDARD
TZOFFSETFROM:-0500
TZOFFSETTO:-0600
TZNAME:CST
DTSTART:20271107T070000
END:STANDARD
END:VTIMEZONE
BEGIN:VEVENT
DTSTART;TZID=America/Chicago:20260228T100000
DTEND;TZID=America/Chicago:20260228T120000
DTSTAMP:20260425T184911
CREATED:20260122T213434Z
LAST-MODIFIED:20260122T213434Z
UID:10000190-1772272800-1772280000@eastsidefreedomlibrary.org
SUMMARY:HISTORY DAY MENTORING! - Every Saturday morning from 10am-12pm
DESCRIPTION:National History Day Mentoring Returns to ESFL! \nWe’re excited to launch this year’s ESFL National History Day Mentoring Project! \n\nOur first session was Saturday\, December 6\, and will continue every Saturday morning from 10AM–12PM throughout the season through April 2026.\n\nThis year’s National History Day theme is:  REVOLUTION\, REACTION\, AND REFORM IN HISTORY \nAs the nation approaches the 250th anniversary of the Declaration of Independence\, students are invited to explore how revolutions spark reactions\, how reactions inspire reforms\, and how each moment sets off the next\, just like a line of falling dominoes. \nAre you or your students passionate about racial justice\, labor activism\, women’s rights\, immigrant history\, GLBTQ+ movements\, environmental activism\, or other powerful stories of change? \nDo they want to create performances\, documentaries\, exhibits\, websites\, or research papers? \nSend them to the East Side Freedom Library! \nHere they’ll find: \n\n\nRich research resources (books\, art\, music\, archival material)\nConnections for oral histories\nExperienced mentors who have supported local students for over 10 years\nAnd our results? Last year\, three ESFL-mentored students won first or second place at Nationals!\nSTARTING THIS SATURDAY\, DECEMBER 6 – THEN EVERY SATURDAY MORNING\, 10AM–NOON\nEast Side Freedom Library\n\nStudents are encouraged to make an appointment by emailing Peter Rachleff (American History professor at Macalester College for 30 years and coordinator of the ESFL mentor team): peter@eastsidefreedomlibrary.org \nAfter their first session\, students are welcome to return anytime to use ESFL resources. Menors will be available for in-person or remote one-on-one support. \n 
URL:https://eastsidefreedomlibrary.org/event/history-day-mentoring-every-saturday-morning-from-10am-12pm/2026-02-28/
LOCATION:East Side Freedom Library\, 1105 Greenbrier St\, Saint Paul\, MN\, 55106
ATTACH;FMTTYPE=image/jpeg:https://eastsidefreedomlibrary.org/wp-content/uploads/2026/01/IMG_3028.jpeg
ORGANIZER;CN="East Side Freedom Library":MAILTO:info@eastsidefreedomlibrary.org
END:VEVENT
BEGIN:VEVENT
DTSTART;TZID=America/Chicago:20260228T100000
DTEND;TZID=America/Chicago:20260228T130000
DTSTAMP:20260425T184911
CREATED:20260220T211215Z
LAST-MODIFIED:20260220T211215Z
UID:10000202-1772272800-1772283600@eastsidefreedomlibrary.org
SUMMARY:WRITERS' WORSHOP with acclaimed writers  DINAW MENGESTU and BURHAN SӦNMEZ
DESCRIPTION:Saturday\, February 28th from 10-1pm \nat the East Side Freedom Library \njoin Burhan Sönmez and Dinaw Mengestu for an intimate writers’ workshop on using craft to process moments of crisis. Drawing on their experiences writing through political upheaval\, exile\, and uncertainty\, Burhan and Dinaw will guide participants through conversation and exercises focused on transforming fear\, disruption\, and grief into language that clarifies and endures. \nLimited spots available. Email info@eastsidefreedomlibrary.org to register. \n  \nWRITER BIOS \nDINAW MENGESTU\, is the President of PEN America. Mengestu directs both the Center for Ethics and Writing and the Written Arts Program at Bard College. A PEN America trustee since 2016\, he has won the prestigious 2012 MacArthur Genius Grant and the National Book Foundation 5 Under 35 Award. He has reported on conflicts in Darfur\, Uganda\, and eastern Congo in articles for The New York Times\, The New Yorker\, Harper’s\, Granta\, and Rolling Stone. \nMengestu’s first three novels – The Beautiful Things That Heaven Bears (2007)\, How to Read the Air (2010)\, All Our Names (2014)\, all New York Times Notable Books – explore the psychic toll and complexities of immigration from his native Ethiopia to the United States. His most recent novel\, Someone Like Us (2024)\, shifts to the U.S.-born second generation\, examining how displacement shapes their identity and a sense of belonging; it was named one of former President Obama’s ten best books of 2024. \n\nBURHAN SӦNMEZ\, a Kurdish novelist from Türkiye\, is the President of PEN International. His novels have been translated into more than forty languages and received international prizes\, including the EBRD Literature Prize\, the Orhan Kemal Novel Award and Vaclav Havel Library Award. He translated the poetry book of The Marriage of Heaven and Hell by William Blake into Turkish. \nHe received a Law degree from the University of Istanbul and worked as a lawyer before moving to Britain due to political reasons. Sonmez is a Senior Member of Hughes Hall and Trinity College\, University of Cambridge. From Middle East Technical University in Ankara to The Università della Svizzera italiana in Lugano he has given lectures on literature and freedom of expression in various universities. \n 
URL:https://eastsidefreedomlibrary.org/event/writers-worshop-with-acclaimed-writers-dinaw-mengestu-and-burhan-s%d3%a7nmez/
LOCATION:East Side Freedom Library\, 1105 Greenbrier St\, Saint Paul\, MN\, 55106
ATTACH;FMTTYPE=image/png:https://eastsidefreedomlibrary.org/wp-content/uploads/2026/02/2.png
ORGANIZER;CN="East Side Freedom Library":MAILTO:info@eastsidefreedomlibrary.org
END:VEVENT
END:VCALENDAR